BEGIN:VCALENDAR
VERSION:2.0
PRODID:-//Plone.org//NONSGML plone.app.event//EN
X-WR-TIMEZONE:Europe/Rome
BEGIN:VEVENT
SUMMARY:CinEstate 2020 - 13 Luglio: La ricerca della felicità
DTSTART;TZID=Europe/Rome;VALUE=DATE-TIME:20200713T213000
DTEND;TZID=Europe/Rome;VALUE=DATE-TIME:20200713T233000
DTSTAMP;VALUE=DATE-TIME:20260421T104043Z
UID:2a412a3c5d2f4954a78efd985539f561@old.comune.zolapredosa.bo.it
CREATED;VALUE=DATE-TIME:20200707T150915Z
LAST-MODIFIED;VALUE=DATE-TIME:20200707T151045Z
LOCATION:Centro socio-culturale Sandro Pertini\, Via Raibolini 44
URL:https://old.comune.zolapredosa.bo.it/events/cinestate-2020-13-luglio-l
 a-ricerca-della-felicita
END:VEVENT
BEGIN:VTIMEZONE
TZID:Europe/Rome
X-LIC-LOCATION:Europe/Rome
BEGIN:DAYLIGHT
DTSTART;VALUE=DATE-TIME:20200329T030000
TZNAME:CEST
TZOFFSETFROM:+0100
TZOFFSETTO:+0200
END:DAYLIGHT
END:VTIMEZONE
END:VCALENDAR
