BEGIN:VCALENDAR
VERSION:2.0
PRODID:-//Plone.org//NONSGML plone.app.event//EN
X-WR-TIMEZONE:Europe/Rome
BEGIN:VEVENT
SUMMARY:Dammi il Cinque! Letture per salutare l'Estate. Per bambine e bamb
 ini in viaggio verso la Scuola Primaria
DTSTART;VALUE=DATE:20200627
DTEND;VALUE=DATE:20200628
DTSTAMP;VALUE=DATE-TIME:20260421T011029Z
UID:e43926e91a8b4f4cb256ff0a924418af@old.comune.zolapredosa.bo.it
ATTENDEE;CN="Classi dell'ultimo anno della Scuola dell'Infanzia di Zola Pr
 edosa.";ROLE=REQ-PARTICIPANT:Classi dell'ultimo anno della Scuola dell'Inf
 anzia di Zola Predosa.
CONTACT:https://www.comune.zolapredosa.bo.it/news/dammi-il-cinque-letture-
 per-salutare-lestate-per-bambine-e-bambini-in-viaggio-verso-la-scuola-prim
 aria?fbclid=IwAR10VOzVgP7wsLrzSfCm1UPdZfAvbFwYaZovr_lYdFglzLKMz51SGN0RafI
CREATED;VALUE=DATE-TIME:20200623T133222Z
LAST-MODIFIED;VALUE=DATE-TIME:20200623T135209Z
LOCATION:Villa Edvige Garagnani - Via Masini\, 11
URL:https://old.comune.zolapredosa.bo.it/events/dammi-il-cinque-letture-pe
 r-salutare-lestate-per-bambine-e-bambini-in-viaggio-verso-la-scuola-primar
 ia
END:VEVENT
END:VCALENDAR
