BEGIN:VCALENDAR
VERSION:2.0
PRODID:-//Plone.org//NONSGML plone.app.event//EN
X-WR-TIMEZONE:Europe/Rome
BEGIN:VEVENT
SUMMARY:"Domenica in Atelier"
DTSTART;TZID=Europe/Rome;VALUE=DATE-TIME:20190609T100000
DTEND;TZID=Europe/Rome;VALUE=DATE-TIME:20190609T120000
DTSTAMP;VALUE=DATE-TIME:20260422T125250Z
UID:6e0ab579e7c64850bebedc02f4b105da@old.comune.zolapredosa.bo.it
CONTACT:https://www.la-mandria.it/spazio-atelier/
CREATED;VALUE=DATE-TIME:20190503T111034Z
DESCRIPTION:L'Atelier dei Bambini\, laboratori per i bambini - Fascia di e
 tà 3-6 anni
LAST-MODIFIED;VALUE=DATE-TIME:20190610T055912Z
LOCATION:La Mandria - Spazio Atelier - via Risorgimento 326
URL:https://old.comune.zolapredosa.bo.it/events/domenica-in-atelier-lateli
 er-dei-bambini-laboratori-per-i-bambini/2019-06-09
END:VEVENT
BEGIN:VTIMEZONE
TZID:Europe/Rome
X-LIC-LOCATION:Europe/Rome
BEGIN:DAYLIGHT
DTSTART;VALUE=DATE-TIME:20190331T030000
TZNAME:CEST
TZOFFSETFROM:+0100
TZOFFSETTO:+0200
END:DAYLIGHT
END:VTIMEZONE
END:VCALENDAR
