BEGIN:VCALENDAR
VERSION:2.0
PRODID:-//Plone.org//NONSGML plone.app.event//EN
X-WR-TIMEZONE:Europe/Rome
BEGIN:VEVENT
SUMMARY:"Io sono un clown... reality circus" - Spettacolo di clownerie e a
 rti circensi
DTSTART;TZID=Europe/Rome;VALUE=DATE-TIME:20200722T180000
DTEND;TZID=Europe/Rome;VALUE=DATE-TIME:20200722T200000
DTSTAMP;VALUE=DATE-TIME:20260419T184446Z
UID:cebb705aeff44ebab2d920d8325965f2@old.comune.zolapredosa.bo.it
CREATED;VALUE=DATE-TIME:20200716T061020Z
LAST-MODIFIED;VALUE=DATE-TIME:20200716T061117Z
LOCATION:Parrocchia di Santa Maria di Ponte Ronca\, via Savonarola\, 2
URL:https://old.comune.zolapredosa.bo.it/events/io-sono-un-clown-reality-c
 ircus-spettacolo-di-clownerie-e-arti-circensi
END:VEVENT
BEGIN:VTIMEZONE
TZID:Europe/Rome
X-LIC-LOCATION:Europe/Rome
BEGIN:DAYLIGHT
DTSTART;VALUE=DATE-TIME:20200329T030000
TZNAME:CEST
TZOFFSETFROM:+0100
TZOFFSETTO:+0200
END:DAYLIGHT
END:VTIMEZONE
END:VCALENDAR
