BEGIN:VCALENDAR
VERSION:2.0
PRODID:-//Plone.org//NONSGML plone.app.event//EN
X-WR-TIMEZONE:Europe/Rome
BEGIN:VEVENT
SUMMARY:La Ducentola - Laboratori sulle competenze digitali per bambini e 
 ragazzi
DTSTART;TZID=Europe/Rome;VALUE=DATE-TIME:20230221T163000
DTEND;TZID=Europe/Rome;VALUE=DATE-TIME:20230221T183000
DTSTAMP;VALUE=DATE-TIME:20260423T222616Z
UID:82ebfe88e240466cb3c9cb4e90070bd1@old.comune.zolapredosa.bo.it
RRULE:FREQ=DAILY;UNTIL=20230325T000000
EXDATE;TZID=Europe/Rome:20230224T000000,20230225T000000,20230226T000000,20
 230227T000000,20230303T000000,20230304T000000,20230305T000000,20230306T000
 000,20230310T000000,20230311T000000,20230312T000000,20230313T000000,202303
 17T000000,20230318T000000,20230319T000000,20230320T000000,20230324T000000,
 20230325T000000
CREATED;VALUE=DATE-TIME:20220204T082208Z
DESCRIPTION:Due proposte divise per fascia di età  2/3 anni o 7/11 anni
LAST-MODIFIED;VALUE=DATE-TIME:20230223T100938Z
LOCATION:Ludoteca "La Ducentola" - via Cellini\, Zola Predosa (nei locali 
 dell'ex materna Cellini)
URL:https://old.comune.zolapredosa.bo.it/events/la-ducentola-laboratori-su
 lle-competenze-digitali-per-bambini-e-bambine
END:VEVENT
BEGIN:VTIMEZONE
TZID:Europe/Rome
X-LIC-LOCATION:Europe/Rome
BEGIN:STANDARD
DTSTART;VALUE=DATE-TIME:20221030T020000
TZNAME:CET
TZOFFSETFROM:+0200
TZOFFSETTO:+0100
END:STANDARD
END:VTIMEZONE
END:VCALENDAR
