BEGIN:VCALENDAR
VERSION:2.0
PRODID:-//Plone.org//NONSGML plone.app.event//EN
X-WR-TIMEZONE:Europe/Rome
BEGIN:VEVENT
SUMMARY:"Per una scelta consapevole": il 23 ottobre incontro online con le
  famiglie e i ragazzi/e che frequentano la 3^ media
DTSTART;TZID=Europe/Rome;VALUE=DATE-TIME:20211023T100000
DTEND;TZID=Europe/Rome;VALUE=DATE-TIME:20211023T123000
DTSTAMP;VALUE=DATE-TIME:20260421T110219Z
UID:178508da5dc647e9b5ec295ba2dd0461@old.comune.zolapredosa.bo.it
CREATED;VALUE=DATE-TIME:20211019T061504Z
LAST-MODIFIED;VALUE=DATE-TIME:20211019T063004Z
LOCATION:Online
URL:https://old.comune.zolapredosa.bo.it/events/per-una-scelta-consapevole
 -incontro-online-con-le-famiglie-e-i-ragazzi-che-frequentano-la-3-media-il
 -23-ottobre
END:VEVENT
BEGIN:VTIMEZONE
TZID:Europe/Rome
X-LIC-LOCATION:Europe/Rome
BEGIN:DAYLIGHT
DTSTART;VALUE=DATE-TIME:20210328T030000
TZNAME:CEST
TZOFFSETFROM:+0100
TZOFFSETTO:+0200
END:DAYLIGHT
END:VTIMEZONE
END:VCALENDAR
