BEGIN:VCALENDAR
VERSION:2.0
PRODID:-//Plone.org//NONSGML plone.app.event//EN
X-WR-TIMEZONE:Europe/Rome
BEGIN:VEVENT
SUMMARY:Spazio Comune - Facciamo il punto!
DTSTART;TZID=Europe/Rome;VALUE=DATE-TIME:20200612T180000
DTEND;TZID=Europe/Rome;VALUE=DATE-TIME:20200612T193000
DTSTAMP;VALUE=DATE-TIME:20260421T103835Z
UID:ca77ae3aefaa422888580ad0f00c8032@old.comune.zolapredosa.bo.it
CREATED;VALUE=DATE-TIME:20191010T063916Z
LAST-MODIFIED;VALUE=DATE-TIME:20200610T133109Z
LOCATION:Villa Edvige Garagnani
URL:https://old.comune.zolapredosa.bo.it/events/spazio_comune_facciamo_il_
 punto
END:VEVENT
BEGIN:VTIMEZONE
TZID:Europe/Rome
X-LIC-LOCATION:Europe/Rome
BEGIN:DAYLIGHT
DTSTART;VALUE=DATE-TIME:20200329T030000
TZNAME:CEST
TZOFFSETFROM:+0100
TZOFFSETTO:+0200
END:DAYLIGHT
END:VTIMEZONE
END:VCALENDAR
