BEGIN:VCALENDAR
VERSION:2.0
PRODID:-//Plone.org//NONSGML plone.app.event//EN
X-WR-TIMEZONE:Europe/Rome
BEGIN:VEVENT
SUMMARY:Zola Book Station al Mercato contadino di Riale
DTSTART;TZID=Europe/Rome;VALUE=DATE-TIME:20231024T150000
DTEND;TZID=Europe/Rome;VALUE=DATE-TIME:20231024T180000
DTSTAMP;VALUE=DATE-TIME:20260422T085106Z
UID:d1adacbaea174cfd972ecbc234def437@old.comune.zolapredosa.bo.it
CATEGORIES:news
CATEGORIES:Notizie
CATEGORIES:secondrow
CREATED;VALUE=DATE-TIME:20230413T095121Z
LAST-MODIFIED;VALUE=DATE-TIME:20231120T165846Z
LOCATION:Piazzetta Emanuela Loi di fronte Centro Falcone
URL:https://old.comune.zolapredosa.bo.it/events/zola-book-station-autunno-
 2023/2023-10-24
END:VEVENT
BEGIN:VTIMEZONE
TZID:Europe/Rome
X-LIC-LOCATION:Europe/Rome
BEGIN:DAYLIGHT
DTSTART;VALUE=DATE-TIME:20230326T030000
TZNAME:CEST
TZOFFSETFROM:+0100
TZOFFSETTO:+0200
END:DAYLIGHT
END:VTIMEZONE
END:VCALENDAR
