BEGIN:VCALENDAR
VERSION:2.0
PRODID:-//Plone.org//NONSGML plone.app.event//EN
X-WR-TIMEZONE:Europe/Rome
BEGIN:VEVENT
SUMMARY:Zola Book Station al Mercato contadino di Riale
DTSTART;TZID=Europe/Rome;VALUE=DATE-TIME:20231114T150000
DTEND;TZID=Europe/Rome;VALUE=DATE-TIME:20231114T180000
DTSTAMP;VALUE=DATE-TIME:20260423T121702Z
UID:d1adacbaea174cfd972ecbc234def437@old.comune.zolapredosa.bo.it
CATEGORIES:news
CATEGORIES:Notizie
CATEGORIES:secondrow
CREATED;VALUE=DATE-TIME:20230413T095121Z
LAST-MODIFIED;VALUE=DATE-TIME:20231120T165846Z
LOCATION:Piazzetta Emanuela Loi di fronte Centro Falcone
URL:https://old.comune.zolapredosa.bo.it/events/zola-book-station-autunno-
 2023/2023-11-14
END:VEVENT
BEGIN:VTIMEZONE
TZID:Europe/Rome
X-LIC-LOCATION:Europe/Rome
BEGIN:STANDARD
DTSTART;VALUE=DATE-TIME:20231029T020000
TZNAME:CET
TZOFFSETFROM:+0200
TZOFFSETTO:+0100
END:STANDARD
END:VTIMEZONE
END:VCALENDAR
