BEGIN:VCALENDAR
VERSION:2.0
PRODID:-//Plone.org//NONSGML plone.app.event//EN
X-WR-TIMEZONE:Europe/Rome
BEGIN:VEVENT
SUMMARY:Zola Book Station al Mercato contadino di Riale
DTSTART;TZID=Europe/Rome;VALUE=DATE-TIME:20231010T150000
DTEND;TZID=Europe/Rome;VALUE=DATE-TIME:20231010T180000
DTSTAMP;VALUE=DATE-TIME:20260422T024207Z
UID:d1adacbaea174cfd972ecbc234def437@old.comune.zolapredosa.bo.it
RRULE:FREQ=WEEKLY;UNTIL=20231128T000000;BYDAY=TU
EXDATE;TZID=Europe/Rome:20231017T000000,20231017T000000,20231031T000000,20
 231031T000000,20231107T000000,20231107T000000,20231121T000000,20231121T000
 000
CATEGORIES:news
CATEGORIES:Notizie
CATEGORIES:secondrow
CREATED;VALUE=DATE-TIME:20230413T095121Z
LAST-MODIFIED;VALUE=DATE-TIME:20231120T165846Z
LOCATION:Piazzetta Emanuela Loi di fronte Centro Falcone
URL:https://old.comune.zolapredosa.bo.it/events/zola-book-station-autunno-
 2023
END:VEVENT
BEGIN:VTIMEZONE
TZID:Europe/Rome
X-LIC-LOCATION:Europe/Rome
BEGIN:DAYLIGHT
DTSTART;VALUE=DATE-TIME:20230326T030000
TZNAME:CEST
TZOFFSETFROM:+0100
TZOFFSETTO:+0200
END:DAYLIGHT
END:VTIMEZONE
END:VCALENDAR
